BEGIN:VCALENDAR
VERSION:2.0
PRODID:-//Mwanzoni | - ECPv6.15.20//NONSGML v1.0//EN
CALSCALE:GREGORIAN
METHOD:PUBLISH
X-WR-CALNAME:Mwanzoni |
X-ORIGINAL-URL:https://mwanzoni.com
X-WR-CALDESC:Events for Mwanzoni |
REFRESH-INTERVAL;VALUE=DURATION:PT1H
X-Robots-Tag:noindex
X-PUBLISHED-TTL:PT1H
BEGIN:VTIMEZONE
TZID:Europe/London
BEGIN:DAYLIGHT
TZOFFSETFROM:+0000
TZOFFSETTO:+0100
TZNAME:BST
DTSTART:20210328T010000
END:DAYLIGHT
BEGIN:STANDARD
TZOFFSETFROM:+0100
TZOFFSETTO:+0000
TZNAME:GMT
DTSTART:20211031T010000
END:STANDARD
BEGIN:DAYLIGHT
TZOFFSETFROM:+0000
TZOFFSETTO:+0100
TZNAME:BST
DTSTART:20220327T010000
END:DAYLIGHT
BEGIN:STANDARD
TZOFFSETFROM:+0100
TZOFFSETTO:+0000
TZNAME:GMT
DTSTART:20221030T010000
END:STANDARD
BEGIN:DAYLIGHT
TZOFFSETFROM:+0000
TZOFFSETTO:+0100
TZNAME:BST
DTSTART:20230326T010000
END:DAYLIGHT
BEGIN:STANDARD
TZOFFSETFROM:+0100
TZOFFSETTO:+0000
TZNAME:GMT
DTSTART:20231029T010000
END:STANDARD
END:VTIMEZONE
BEGIN:VTIMEZONE
TZID:Africa/Nairobi
BEGIN:STANDARD
TZOFFSETFROM:+0300
TZOFFSETTO:+0300
TZNAME:EAT
DTSTART:20200101T000000
END:STANDARD
END:VTIMEZONE
BEGIN:VEVENT
DTSTART;TZID=Europe/London:20220117T150000
DTEND;TZID=Europe/London:20220117T160000
DTSTAMP:20260423T182644
CREATED:20220105T231355Z
LAST-MODIFIED:20220105T231857Z
UID:1208-1642431600-1642435200@mwanzoni.com
SUMMARY:Professional skills in demand post-COVID
DESCRIPTION:What’s your professional development plans for 2022? \nAs you set your personal and professional development training plans and goals for 2022\, consider what skills and competencies you need to develop in this post-COVID era. Do you need to develop more technical skills or more of the softer skills? How can you leverage remote working to improve productivity?
URL:https://mwanzoni.com/event/professional-skills-in-demand-post-covid/
LOCATION:Webinars\, London\, United Kingdom
CATEGORIES:Training,Webinar
END:VEVENT
BEGIN:VEVENT
DTSTART;TZID=Africa/Nairobi:20211122T193000
DTEND;TZID=Africa/Nairobi:20211122T200000
DTSTAMP:20260423T182645
CREATED:20211101T095500Z
LAST-MODIFIED:20211227T160129Z
UID:682-1637609400-1637611200@mwanzoni.com
SUMMARY:Monday Micro Training - FREE
DESCRIPTION:An introduction to Project and programme Management.
URL:https://mwanzoni.com/event/monday-ppm/
CATEGORIES:Training,Webinar
ATTACH;FMTTYPE=image/jpeg:https://mwanzoni.com/wp-content/uploads/2021/11/MONDAY-COFFEE.jpg
LOCATION:https://zoom.us/j/99609189011
END:VEVENT
END:VCALENDAR